BEGIN:VCALENDAR
VERSION:2.0
PRODID:-//humanesocietycc.org//NONSGML kigkonsult.se iCalcreator 2.30.10//
CALSCALE:GREGORIAN
METHOD:PUBLISH
UID:ab096b28-597a-49a1-8b8c-81d78eabf0ed
X-WR-CALDESC:
X-WR-RELCALID:c0dc1a4a842401cac93deebb33939290
X-WR-TIMEZONE:America/New_York
BEGIN:VTIMEZONE
TZID:America/New_York
BEGIN:STANDARD
TZNAME:EST
DTSTART:20261101T020000
TZOFFSETFROM:-0400
TZOFFSETTO:-0500
RDATE:20271107T020000
END:STANDARD
BEGIN:DAYLIGHT
TZNAME:EDT
DTSTART:20260308T020000
TZOFFSETFROM:-0500
TZOFFSETTO:-0400
RDATE:20270314T020000
RDATE:20280312T020000
END:DAYLIGHT
END:VTIMEZONE
BEGIN:VEVENT
UID:595d262b-7fe6-4bb4-a100-b27013c0ef2c
DTSTAMP:20260421T100733Z
DESCRIPTION:
DTSTART;TZID=America/New_York:20270104T000000
DTEND;TZID=America/New_York:20270104T235900
LOCATION:
SUMMARY:Shelter Closed
END:VEVENT
END:VCALENDAR
