BEGIN:VCALENDAR
VERSION:2.0
PRODID:-//humanesocietycc.org//NONSGML kigkonsult.se iCalcreator 2.30.10//
CALSCALE:GREGORIAN
METHOD:PUBLISH
UID:928a9b6a-f0dd-4574-a120-4f5db950f5f5
X-WR-CALDESC:
X-WR-RELCALID:8f03fd71ed0dd9207b7d564ecbfc57af
X-WR-TIMEZONE:America/New_York
BEGIN:VTIMEZONE
TZID:America/New_York
BEGIN:STANDARD
TZNAME:EST
DTSTART:20261101T020000
TZOFFSETFROM:-0400
TZOFFSETTO:-0500
RDATE:20271107T020000
END:STANDARD
BEGIN:DAYLIGHT
TZNAME:EDT
DTSTART:20260308T020000
TZOFFSETFROM:-0500
TZOFFSETTO:-0400
RDATE:20270314T020000
RDATE:20280312T020000
END:DAYLIGHT
END:VTIMEZONE
BEGIN:VEVENT
UID:ce0b3e76-7876-4f03-8ae6-85e9a80e1428
DTSTAMP:20260421T113806Z
DESCRIPTION:
DTSTART;TZID=America/New_York:20270208T000000
DTEND;TZID=America/New_York:20270208T235900
LOCATION:
SUMMARY:Shelter Closed
END:VEVENT
END:VCALENDAR
