BEGIN:VCALENDAR
VERSION:2.0
PRODID:-//humanesocietycc.org//NONSGML kigkonsult.se iCalcreator 2.30.10//
CALSCALE:GREGORIAN
METHOD:PUBLISH
UID:218214df-327c-4f9c-b93c-f932edb7ccdd
X-WR-CALDESC:
X-WR-RELCALID:d2ea14a02748d910c5914524b2f049b3
X-WR-TIMEZONE:America/New_York
BEGIN:VTIMEZONE
TZID:America/New_York
BEGIN:STANDARD
TZNAME:EST
DTSTART:20261101T020000
TZOFFSETFROM:-0400
TZOFFSETTO:-0500
RDATE:20271107T020000
END:STANDARD
BEGIN:DAYLIGHT
TZNAME:EDT
DTSTART:20260308T020000
TZOFFSETFROM:-0500
TZOFFSETTO:-0400
RDATE:20270314T020000
RDATE:20280312T020000
END:DAYLIGHT
END:VTIMEZONE
BEGIN:VEVENT
UID:c62a310c-eccc-4bad-8fd8-33601d023b85
DTSTAMP:20260421T131713Z
DESCRIPTION:
DTSTART;TZID=America/New_York:20270301T000000
DTEND;TZID=America/New_York:20270301T235900
LOCATION:
SUMMARY:Shelter Closed
END:VEVENT
END:VCALENDAR
