BEGIN:VCALENDAR
VERSION:2.0
PRODID:-//humanesocietycc.org//NONSGML kigkonsult.se iCalcreator 2.30.10//
CALSCALE:GREGORIAN
METHOD:PUBLISH
UID:7282690a-521f-4816-8c0a-bb8598e16939
X-WR-CALDESC:
X-WR-RELCALID:80577e947f8536d1f894973bd3d00952
X-WR-TIMEZONE:America/New_York
BEGIN:VTIMEZONE
TZID:America/New_York
BEGIN:STANDARD
TZNAME:EST
DTSTART:20261101T020000
TZOFFSETFROM:-0400
TZOFFSETTO:-0500
RDATE:20271107T020000
END:STANDARD
BEGIN:DAYLIGHT
TZNAME:EDT
DTSTART:20270314T020000
TZOFFSETFROM:-0500
TZOFFSETTO:-0400
RDATE:20280312T020000
END:DAYLIGHT
END:VTIMEZONE
BEGIN:VEVENT
UID:a80337ba-a47b-4a0c-9974-0749ec4a17ee
DTSTAMP:20260421T151627Z
DESCRIPTION:
DTSTART;TZID=America/New_York:20270412T000000
DTEND;TZID=America/New_York:20270412T235900
LOCATION:
SUMMARY:Shelter Closed
END:VEVENT
END:VCALENDAR
