BEGIN:VCALENDAR
VERSION:2.0
PRODID:-//humanesocietycc.org//NONSGML kigkonsult.se iCalcreator 2.30.10//
CALSCALE:GREGORIAN
METHOD:PUBLISH
UID:0a1c581f-a57b-48e3-a0fb-93aa8b13ea9c
X-WR-CALDESC:
X-WR-RELCALID:889ac2ddbea53f751dab6a162875e417
X-WR-TIMEZONE:America/New_York
BEGIN:VTIMEZONE
TZID:America/New_York
BEGIN:STANDARD
TZNAME:EST
DTSTART:20261101T020000
TZOFFSETFROM:-0400
TZOFFSETTO:-0500
RDATE:20271107T020000
END:STANDARD
BEGIN:DAYLIGHT
TZNAME:EDT
DTSTART:20270314T020000
TZOFFSETFROM:-0500
TZOFFSETTO:-0400
RDATE:20280312T020000
END:DAYLIGHT
END:VTIMEZONE
BEGIN:VEVENT
UID:a10a4315-3dca-4dd9-9c93-fd4a1f6b750e
DTSTAMP:20260421T151015Z
DESCRIPTION:
DTSTART;TZID=America/New_York:20270419T000000
DTEND;TZID=America/New_York:20270419T235900
LOCATION:
SUMMARY:Shelter Closed
END:VEVENT
END:VCALENDAR
