BEGIN:VCALENDAR
VERSION:2.0
PRODID:-//humanesocietycc.org//NONSGML kigkonsult.se iCalcreator 2.30.10//
CALSCALE:GREGORIAN
METHOD:PUBLISH
UID:4b0f96a7-b022-4256-954a-d18d1327789d
X-WR-CALDESC:
X-WR-RELCALID:18fcd9550f8d4807975214f82565a059
X-WR-TIMEZONE:America/New_York
BEGIN:VTIMEZONE
TZID:America/New_York
BEGIN:STANDARD
TZNAME:EST
DTSTART:20261101T020000
TZOFFSETFROM:-0400
TZOFFSETTO:-0500
RDATE:20271107T020000
END:STANDARD
BEGIN:DAYLIGHT
TZNAME:EDT
DTSTART:20270314T020000
TZOFFSETFROM:-0500
TZOFFSETTO:-0400
RDATE:20280312T020000
END:DAYLIGHT
END:VTIMEZONE
BEGIN:VEVENT
UID:2fc75f17-e1a6-49c9-afea-e4ffd22b6cac
DTSTAMP:20260421T163802Z
DESCRIPTION:
DTSTART;TZID=America/New_York:20270503T000000
DTEND;TZID=America/New_York:20270503T235900
LOCATION:
SUMMARY:Shelter Closed
END:VEVENT
END:VCALENDAR
