BEGIN:VCALENDAR
VERSION:2.0
PRODID:-//humanesocietycc.org//NONSGML kigkonsult.se iCalcreator 2.30.10//
CALSCALE:GREGORIAN
METHOD:PUBLISH
UID:cc357750-e026-4c1f-8c1d-7b43f503a245
X-WR-CALDESC:
X-WR-RELCALID:5ad7a6fb4e8dbbdb788b2710b7dce5d2
X-WR-TIMEZONE:America/New_York
BEGIN:VTIMEZONE
TZID:America/New_York
BEGIN:STANDARD
TZNAME:EST
DTSTART:20261101T020000
TZOFFSETFROM:-0400
TZOFFSETTO:-0500
RDATE:20271107T020000
RDATE:20281105T020000
END:STANDARD
BEGIN:DAYLIGHT
TZNAME:EDT
DTSTART:20270314T020000
TZOFFSETFROM:-0500
TZOFFSETTO:-0400
RDATE:20280312T020000
END:DAYLIGHT
END:VTIMEZONE
BEGIN:VEVENT
UID:e5f43e81-c2ed-4a78-ba0d-6165c3b8b7c5
DTSTAMP:20260421T163117Z
DESCRIPTION:
DTSTART;TZID=America/New_York:20270510T000000
DTEND;TZID=America/New_York:20270510T235900
LOCATION:
SUMMARY:Shelter Closed
END:VEVENT
END:VCALENDAR
