BEGIN:VCALENDAR
VERSION:2.0
PRODID:-//humanesocietycc.org//NONSGML kigkonsult.se iCalcreator 2.30.10//
CALSCALE:GREGORIAN
METHOD:PUBLISH
UID:fa24e9f5-875f-4842-b1c6-d8ad717b4dac
X-WR-CALDESC:
X-WR-RELCALID:d6430e04df5f970e63966a545ec67785
X-WR-TIMEZONE:America/New_York
BEGIN:VTIMEZONE
TZID:America/New_York
BEGIN:STANDARD
TZNAME:EST
DTSTART:20261101T020000
TZOFFSETFROM:-0400
TZOFFSETTO:-0500
RDATE:20271107T020000
RDATE:20281105T020000
END:STANDARD
BEGIN:DAYLIGHT
TZNAME:EDT
DTSTART:20270314T020000
TZOFFSETFROM:-0500
TZOFFSETTO:-0400
RDATE:20280312T020000
END:DAYLIGHT
END:VTIMEZONE
BEGIN:VEVENT
UID:190ec408-5c47-442d-87de-f583248772e0
DTSTAMP:20260421T175631Z
DESCRIPTION:
DTSTART;TZID=America/New_York:20270628T000000
DTEND;TZID=America/New_York:20270628T235900
LOCATION:
SUMMARY:Shelter Closed
END:VEVENT
END:VCALENDAR
