BEGIN:VCALENDAR
VERSION:2.0
PRODID:-//humanesocietycc.org//NONSGML kigkonsult.se iCalcreator 2.30.10//
CALSCALE:GREGORIAN
METHOD:PUBLISH
UID:63d89272-b4e7-4b7e-9d2f-6b3825684f3a
X-WR-CALDESC:The shelter is closed today for the holiday. We can't wait to 
 see you soon!
X-WR-RELCALID:8639c86c36e5431bdfc172702fbc2c61
X-WR-TIMEZONE:America/New_York
BEGIN:VTIMEZONE
TZID:America/New_York
BEGIN:STANDARD
TZNAME:EST
DTSTART:20261101T020000
TZOFFSETFROM:-0400
TZOFFSETTO:-0500
RDATE:20271107T020000
RDATE:20281105T020000
END:STANDARD
BEGIN:DAYLIGHT
TZNAME:EDT
DTSTART:20270314T020000
TZOFFSETFROM:-0500
TZOFFSETTO:-0400
RDATE:20280312T020000
END:DAYLIGHT
END:VTIMEZONE
BEGIN:VEVENT
UID:9962c297-7188-4175-98c0-0d086933b851
DTSTAMP:20260421T192638Z
DESCRIPTION:The shelter is closed today for the holiday. We can't wait to s
 ee you soon!
DTSTART;TZID=America/New_York:20270704T000000
DTEND;TZID=America/New_York:20270704T235900
LOCATION:
SUMMARY:Shelter Closed
END:VEVENT
END:VCALENDAR
