BEGIN:VCALENDAR
VERSION:2.0
PRODID:-//humanesocietycc.org//NONSGML kigkonsult.se iCalcreator 2.30.10//
CALSCALE:GREGORIAN
METHOD:PUBLISH
UID:2f069921-0f59-4865-914e-af113d812bd1
X-WR-CALDESC:
X-WR-RELCALID:11ff70307aeec6709e827560c394783e
X-WR-TIMEZONE:America/New_York
BEGIN:VTIMEZONE
TZID:America/New_York
BEGIN:STANDARD
TZNAME:EST
DTSTART:20261101T020000
TZOFFSETFROM:-0400
TZOFFSETTO:-0500
RDATE:20271107T020000
RDATE:20281105T020000
END:STANDARD
BEGIN:DAYLIGHT
TZNAME:EDT
DTSTART:20270314T020000
TZOFFSETFROM:-0500
TZOFFSETTO:-0400
RDATE:20280312T020000
END:DAYLIGHT
END:VTIMEZONE
BEGIN:VEVENT
UID:2648355d-611e-4ea4-a3d3-aa36084eb857
DTSTAMP:20260421T192752Z
DESCRIPTION:
DTSTART;TZID=America/New_York:20270712T000000
DTEND;TZID=America/New_York:20270712T235900
LOCATION:
SUMMARY:Shelter Closed
END:VEVENT
END:VCALENDAR
