BEGIN:VCALENDAR
VERSION:2.0
PRODID:-//humanesocietycc.org//NONSGML kigkonsult.se iCalcreator 2.30.10//
CALSCALE:GREGORIAN
METHOD:PUBLISH
UID:046a116e-5dcb-426c-85f8-80272ccc4cff
X-WR-CALDESC:
X-WR-RELCALID:48db589751ae0c3320819fbfe3c8e711
X-WR-TIMEZONE:America/New_York
BEGIN:VTIMEZONE
TZID:America/New_York
BEGIN:STANDARD
TZNAME:EST
DTSTART:20261101T020000
TZOFFSETFROM:-0400
TZOFFSETTO:-0500
RDATE:20271107T020000
RDATE:20281105T020000
END:STANDARD
BEGIN:DAYLIGHT
TZNAME:EDT
DTSTART:20270314T020000
TZOFFSETFROM:-0500
TZOFFSETTO:-0400
RDATE:20280312T020000
END:DAYLIGHT
END:VTIMEZONE
BEGIN:VEVENT
UID:97d49e24-00ee-4b71-a5a4-6bcdcd2237b5
DTSTAMP:20260421T205245Z
DESCRIPTION:
DTSTART;TZID=America/New_York:20270816T000000
DTEND;TZID=America/New_York:20270816T235900
LOCATION:
SUMMARY:Shelter Closed
END:VEVENT
END:VCALENDAR
