BEGIN:VCALENDAR
VERSION:2.0
PRODID:-//humanesocietycc.org//NONSGML kigkonsult.se iCalcreator 2.30.10//
CALSCALE:GREGORIAN
METHOD:PUBLISH
UID:8ca35235-b9c9-4c3d-ad6d-af190a42f662
X-WR-CALDESC:
X-WR-RELCALID:15e9471b1d86fdb7c97d68dd4dd4cd8f
X-WR-TIMEZONE:America/New_York
BEGIN:VTIMEZONE
TZID:America/New_York
BEGIN:STANDARD
TZNAME:EST
DTSTART:20261101T020000
TZOFFSETFROM:-0400
TZOFFSETTO:-0500
RDATE:20271107T020000
RDATE:20281105T020000
END:STANDARD
BEGIN:DAYLIGHT
TZNAME:EDT
DTSTART:20270314T020000
TZOFFSETFROM:-0500
TZOFFSETTO:-0400
RDATE:20280312T020000
RDATE:20290311T020000
END:DAYLIGHT
END:VTIMEZONE
BEGIN:VEVENT
UID:d08d4321-dfd6-4637-a4b3-6937cac2ac66
DTSTAMP:20260421T221600Z
DESCRIPTION:
DTSTART;TZID=America/New_York:20270913T000000
DTEND;TZID=America/New_York:20270913T235900
LOCATION:
SUMMARY:Shelter Closed
END:VEVENT
END:VCALENDAR
