BEGIN:VCALENDAR
VERSION:2.0
PRODID:-//humanesocietycc.org//NONSGML kigkonsult.se iCalcreator 2.30.10//
CALSCALE:GREGORIAN
METHOD:PUBLISH
UID:14384a33-0657-4424-acae-0f36577e0f41
X-WR-CALDESC:
X-WR-RELCALID:b320f084fe4e61e82105408cf1c45e26
X-WR-TIMEZONE:America/New_York
BEGIN:VTIMEZONE
TZID:America/New_York
BEGIN:STANDARD
TZNAME:EST
DTSTART:20261101T020000
TZOFFSETFROM:-0400
TZOFFSETTO:-0500
RDATE:20271107T020000
RDATE:20281105T020000
END:STANDARD
BEGIN:DAYLIGHT
TZNAME:EDT
DTSTART:20270314T020000
TZOFFSETFROM:-0500
TZOFFSETTO:-0400
RDATE:20280312T020000
RDATE:20290311T020000
END:DAYLIGHT
END:VTIMEZONE
BEGIN:VEVENT
UID:f46d55d4-3f21-470a-942d-36d1d8d3e583
DTSTAMP:20260421T234937Z
DESCRIPTION:
DTSTART;TZID=America/New_York:20271004T000000
DTEND;TZID=America/New_York:20271004T235900
LOCATION:
SUMMARY:Shelter Closed
END:VEVENT
END:VCALENDAR
