BEGIN:VCALENDAR
VERSION:2.0
PRODID:-//humanesocietycc.org//NONSGML kigkonsult.se iCalcreator 2.30.10//
CALSCALE:GREGORIAN
METHOD:PUBLISH
UID:f1195ef4-c266-4c2d-80b4-448af793e88c
X-WR-CALDESC:
X-WR-RELCALID:0bcb2393c3d9c9ba8696db47be84a293
X-WR-TIMEZONE:America/New_York
BEGIN:VTIMEZONE
TZID:America/New_York
BEGIN:STANDARD
TZNAME:EST
DTSTART:20261101T020000
TZOFFSETFROM:-0400
TZOFFSETTO:-0500
RDATE:20271107T020000
RDATE:20281105T020000
END:STANDARD
BEGIN:DAYLIGHT
TZNAME:EDT
DTSTART:20270314T020000
TZOFFSETFROM:-0500
TZOFFSETTO:-0400
RDATE:20280312T020000
RDATE:20290311T020000
END:DAYLIGHT
END:VTIMEZONE
BEGIN:VEVENT
UID:a2afbc25-a178-4fe0-954a-d42df8c55b86
DTSTAMP:20260421T234910Z
DESCRIPTION:
DTSTART;TZID=America/New_York:20271025T000000
DTEND;TZID=America/New_York:20271025T235900
LOCATION:
SUMMARY:Shelter Closed
END:VEVENT
END:VCALENDAR
