BEGIN:VCALENDAR
VERSION:2.0
PRODID:-//humanesocietycc.org//NONSGML kigkonsult.se iCalcreator 2.30.10//
CALSCALE:GREGORIAN
METHOD:PUBLISH
UID:91e48ce4-42f6-4902-9021-1f2e81bb0397
X-WR-CALDESC:
X-WR-RELCALID:1d0fcec45a43297d519da238aa7daa21
X-WR-TIMEZONE:America/New_York
BEGIN:VTIMEZONE
TZID:America/New_York
BEGIN:STANDARD
TZNAME:EST
DTSTART:20271107T020000
TZOFFSETFROM:-0400
TZOFFSETTO:-0500
RDATE:20281105T020000
END:STANDARD
BEGIN:DAYLIGHT
TZNAME:EDT
DTSTART:20270314T020000
TZOFFSETFROM:-0500
TZOFFSETTO:-0400
RDATE:20280312T020000
RDATE:20290311T020000
END:DAYLIGHT
END:VTIMEZONE
BEGIN:VEVENT
UID:5b1d9b30-4f8f-4721-9446-21e6e782db72
DTSTAMP:20260422T010537Z
DESCRIPTION:
DTSTART;TZID=America/New_York:20271108T000000
DTEND;TZID=America/New_York:20271108T235900
LOCATION:
SUMMARY:Shelter Closed
END:VEVENT
END:VCALENDAR
