BEGIN:VCALENDAR
VERSION:2.0
PRODID:-//humanesocietycc.org//NONSGML kigkonsult.se iCalcreator 2.30.10//
CALSCALE:GREGORIAN
METHOD:PUBLISH
UID:2f4d2059-ca0b-4616-899b-a5e4f26a0daa
X-WR-CALDESC:
X-WR-RELCALID:62fc790c40c801212565bf54ff5ed294
X-WR-TIMEZONE:America/New_York
BEGIN:VTIMEZONE
TZID:America/New_York
BEGIN:STANDARD
TZNAME:EST
DTSTART:20271107T020000
TZOFFSETFROM:-0400
TZOFFSETTO:-0500
RDATE:20281105T020000
END:STANDARD
BEGIN:DAYLIGHT
TZNAME:EDT
DTSTART:20270314T020000
TZOFFSETFROM:-0500
TZOFFSETTO:-0400
RDATE:20280312T020000
RDATE:20290311T020000
END:DAYLIGHT
END:VTIMEZONE
BEGIN:VEVENT
UID:3c485530-d09d-43a5-8a04-4600cd5305c5
DTSTAMP:20260422T010712Z
DESCRIPTION:
DTSTART;TZID=America/New_York:20271115T000000
DTEND;TZID=America/New_York:20271115T235900
LOCATION:
SUMMARY:Shelter Closed
END:VEVENT
END:VCALENDAR
