BEGIN:VCALENDAR
VERSION:2.0
PRODID:-//humanesocietycc.org//NONSGML kigkonsult.se iCalcreator 2.30.10//
CALSCALE:GREGORIAN
METHOD:PUBLISH
UID:09fcbfa9-1f61-4b1e-b9f3-bea261ba818a
X-WR-CALDESC:
X-WR-RELCALID:9a2fdf56cf7d9459afed29bd93be6362
X-WR-TIMEZONE:America/New_York
BEGIN:VTIMEZONE
TZID:America/New_York
BEGIN:STANDARD
TZNAME:EST
DTSTART:20271107T020000
TZOFFSETFROM:-0400
TZOFFSETTO:-0500
RDATE:20281105T020000
END:STANDARD
BEGIN:DAYLIGHT
TZNAME:EDT
DTSTART:20270314T020000
TZOFFSETFROM:-0500
TZOFFSETTO:-0400
RDATE:20280312T020000
RDATE:20290311T020000
END:DAYLIGHT
END:VTIMEZONE
BEGIN:VEVENT
UID:f0818814-1830-404c-8474-6de8171ef5be
DTSTAMP:20260422T023240Z
DESCRIPTION:
DTSTART;TZID=America/New_York:20271206T000000
DTEND;TZID=America/New_York:20271206T235900
LOCATION:
SUMMARY:Shelter Closed
END:VEVENT
END:VCALENDAR
