BEGIN:VCALENDAR
VERSION:2.0
PRODID:-//humanesocietycc.org//NONSGML kigkonsult.se iCalcreator 2.30.10//
CALSCALE:GREGORIAN
METHOD:PUBLISH
UID:11640e80-930b-40c1-bda4-594f279f022f
X-WR-CALDESC:
X-WR-RELCALID:587c4c54c46fee777c8568dddb5b4a9b
X-WR-TIMEZONE:America/New_York
BEGIN:VTIMEZONE
TZID:America/New_York
BEGIN:STANDARD
TZNAME:EST
DTSTART:20271107T020000
TZOFFSETFROM:-0400
TZOFFSETTO:-0500
RDATE:20281105T020000
END:STANDARD
BEGIN:DAYLIGHT
TZNAME:EDT
DTSTART:20270314T020000
TZOFFSETFROM:-0500
TZOFFSETTO:-0400
RDATE:20280312T020000
RDATE:20290311T020000
END:DAYLIGHT
END:VTIMEZONE
BEGIN:VEVENT
UID:f9d1577a-f0e0-44e1-917c-d81d6044ad09
DTSTAMP:20260422T023029Z
DESCRIPTION:
DTSTART;TZID=America/New_York:20271213T000000
DTEND;TZID=America/New_York:20271213T235900
LOCATION:
SUMMARY:Shelter Closed
END:VEVENT
END:VCALENDAR
