BEGIN:VCALENDAR
VERSION:2.0
PRODID:-//humanesocietycc.org//NONSGML kigkonsult.se iCalcreator 2.30.10//
CALSCALE:GREGORIAN
METHOD:PUBLISH
UID:d6850815-7b69-4617-af58-803e3fe2dd78
X-WR-CALDESC:
X-WR-RELCALID:cc869bb32e40a0da3c20ec80fb035a6a
X-WR-TIMEZONE:America/New_York
BEGIN:VTIMEZONE
TZID:America/New_York
BEGIN:STANDARD
TZNAME:EST
DTSTART:20271107T020000
TZOFFSETFROM:-0400
TZOFFSETTO:-0500
RDATE:20281105T020000
END:STANDARD
BEGIN:DAYLIGHT
TZNAME:EDT
DTSTART:20270314T020000
TZOFFSETFROM:-0500
TZOFFSETTO:-0400
RDATE:20280312T020000
RDATE:20290311T020000
END:DAYLIGHT
END:VTIMEZONE
BEGIN:VEVENT
UID:e55d6da6-6eab-45a6-98c7-34147ef4479a
DTSTAMP:20260422T022942Z
DESCRIPTION:
DTSTART;TZID=America/New_York:20271220T000000
DTEND;TZID=America/New_York:20271220T235900
LOCATION:
SUMMARY:Shelter Closed
END:VEVENT
END:VCALENDAR
