BEGIN:VCALENDAR
VERSION:2.0
PRODID:-//humanesocietycc.org//NONSGML kigkonsult.se iCalcreator 2.30.10//
CALSCALE:GREGORIAN
METHOD:PUBLISH
UID:7c01a209-72db-4bd8-a563-dc259669eae8
X-WR-CALDESC:
X-WR-RELCALID:ed86dd75a06156626dc5ad2a894699d5
X-WR-TIMEZONE:America/New_York
BEGIN:VTIMEZONE
TZID:America/New_York
BEGIN:STANDARD
TZNAME:EST
DTSTART:20271107T020000
TZOFFSETFROM:-0400
TZOFFSETTO:-0500
RDATE:20281105T020000
END:STANDARD
BEGIN:DAYLIGHT
TZNAME:EDT
DTSTART:20270314T020000
TZOFFSETFROM:-0500
TZOFFSETTO:-0400
RDATE:20280312T020000
RDATE:20290311T020000
END:DAYLIGHT
END:VTIMEZONE
BEGIN:VEVENT
UID:6de6fd12-0138-4636-9c08-a7ff6e32dbbf
DTSTAMP:20260422T023024Z
DESCRIPTION:
DTSTART;TZID=America/New_York:20271227T000000
DTEND;TZID=America/New_York:20271227T235900
LOCATION:
SUMMARY:Shelter Closed
END:VEVENT
END:VCALENDAR
