BEGIN:VCALENDAR
VERSION:2.0
PRODID:-//humanesocietycc.org//NONSGML kigkonsult.se iCalcreator 2.30.10//
CALSCALE:GREGORIAN
METHOD:PUBLISH
UID:fd2462fd-3e08-48c7-ac98-95cfbc879ba2
X-WR-CALDESC:
X-WR-RELCALID:cd6ad801525110a347e0db95b8ccef71
X-WR-TIMEZONE:America/New_York
BEGIN:VTIMEZONE
TZID:America/New_York
BEGIN:STANDARD
TZNAME:EST
DTSTART:20271107T020000
TZOFFSETFROM:-0400
TZOFFSETTO:-0500
RDATE:20281105T020000
END:STANDARD
BEGIN:DAYLIGHT
TZNAME:EDT
DTSTART:20270314T020000
TZOFFSETFROM:-0500
TZOFFSETTO:-0400
RDATE:20280312T020000
RDATE:20290311T020000
END:DAYLIGHT
END:VTIMEZONE
BEGIN:VEVENT
UID:c29d22d1-afc7-47c1-8390-600ba9b9109e
DTSTAMP:20260422T042251Z
DESCRIPTION:
DTSTART;TZID=America/New_York:20280124T000000
DTEND;TZID=America/New_York:20280124T235900
LOCATION:
SUMMARY:Shelter Closed
END:VEVENT
END:VCALENDAR
