BEGIN:VCALENDAR
VERSION:2.0
PRODID:-//humanesocietycc.org//NONSGML kigkonsult.se iCalcreator 2.30.10//
CALSCALE:GREGORIAN
METHOD:PUBLISH
UID:27b2ce9b-a42f-4fe2-9d90-98e1f4b4f1e7
X-WR-CALDESC:
X-WR-RELCALID:7a6bef63828425bfb5cdf5438c295ab1
X-WR-TIMEZONE:America/New_York
BEGIN:VTIMEZONE
TZID:America/New_York
BEGIN:STANDARD
TZNAME:EST
DTSTART:20271107T020000
TZOFFSETFROM:-0400
TZOFFSETTO:-0500
RDATE:20281105T020000
END:STANDARD
BEGIN:DAYLIGHT
TZNAME:EDT
DTSTART:20270314T020000
TZOFFSETFROM:-0500
TZOFFSETTO:-0400
RDATE:20280312T020000
RDATE:20290311T020000
END:DAYLIGHT
END:VTIMEZONE
BEGIN:VEVENT
UID:35bfa2e1-8296-4204-9baf-f1a190c58144
DTSTAMP:20260422T040417Z
DESCRIPTION:
DTSTART;TZID=America/New_York:20280131T000000
DTEND;TZID=America/New_York:20280131T235900
LOCATION:
SUMMARY:Shelter Closed
END:VEVENT
END:VCALENDAR
