BEGIN:VCALENDAR
VERSION:2.0
PRODID:-//humanesocietycc.org//NONSGML kigkonsult.se iCalcreator 2.30.10//
CALSCALE:GREGORIAN
METHOD:PUBLISH
UID:60e57e34-2a81-48dc-a8b5-ff6b14556a8a
X-WR-CALDESC:
X-WR-RELCALID:3f76f0300f8a53d8d13607511eccfc80
X-WR-TIMEZONE:America/New_York
BEGIN:VTIMEZONE
TZID:America/New_York
BEGIN:STANDARD
TZNAME:EST
DTSTART:20271107T020000
TZOFFSETFROM:-0400
TZOFFSETTO:-0500
RDATE:20281105T020000
END:STANDARD
BEGIN:DAYLIGHT
TZNAME:EDT
DTSTART:20270314T020000
TZOFFSETFROM:-0500
TZOFFSETTO:-0400
RDATE:20280312T020000
RDATE:20290311T020000
END:DAYLIGHT
END:VTIMEZONE
BEGIN:VEVENT
UID:24bfc451-724f-4911-9466-81eb7b8f0e85
DTSTAMP:20260422T053910Z
DESCRIPTION:
DTSTART;TZID=America/New_York:20280207T000000
DTEND;TZID=America/New_York:20280207T235900
LOCATION:
SUMMARY:Shelter Closed
END:VEVENT
END:VCALENDAR
