BEGIN:VCALENDAR
VERSION:2.0
PRODID:-//humanesocietycc.org//NONSGML kigkonsult.se iCalcreator 2.30.10//
CALSCALE:GREGORIAN
METHOD:PUBLISH
UID:f8e2a02a-15fe-492b-b917-f119170183b1
X-WR-CALDESC:
X-WR-RELCALID:85d30174cb304a1bae6314f87878d254
X-WR-TIMEZONE:America/New_York
BEGIN:VTIMEZONE
TZID:America/New_York
BEGIN:STANDARD
TZNAME:EST
DTSTART:20271107T020000
TZOFFSETFROM:-0400
TZOFFSETTO:-0500
RDATE:20281105T020000
END:STANDARD
BEGIN:DAYLIGHT
TZNAME:EDT
DTSTART:20270314T020000
TZOFFSETFROM:-0500
TZOFFSETTO:-0400
RDATE:20280312T020000
RDATE:20290311T020000
END:DAYLIGHT
END:VTIMEZONE
BEGIN:VEVENT
UID:6c92182e-4728-4464-be15-c9e1a2caf84f
DTSTAMP:20260422T054432Z
DESCRIPTION:
DTSTART;TZID=America/New_York:20280214T000000
DTEND;TZID=America/New_York:20280214T235900
LOCATION:
SUMMARY:Shelter Closed
END:VEVENT
END:VCALENDAR
