BEGIN:VCALENDAR
VERSION:2.0
PRODID:-//humanesocietycc.org//NONSGML kigkonsult.se iCalcreator 2.30.10//
CALSCALE:GREGORIAN
METHOD:PUBLISH
UID:bb3850af-7dbe-4a26-973a-86a85dca5b51
X-WR-CALDESC:
X-WR-RELCALID:b0c8585d2e4a7cebd4d0752fc31a06ed
X-WR-TIMEZONE:America/New_York
BEGIN:VTIMEZONE
TZID:America/New_York
BEGIN:STANDARD
TZNAME:EST
DTSTART:20271107T020000
TZOFFSETFROM:-0400
TZOFFSETTO:-0500
RDATE:20281105T020000
END:STANDARD
BEGIN:DAYLIGHT
TZNAME:EDT
DTSTART:20270314T020000
TZOFFSETFROM:-0500
TZOFFSETTO:-0400
RDATE:20280312T020000
RDATE:20290311T020000
END:DAYLIGHT
END:VTIMEZONE
BEGIN:VEVENT
UID:c8655dd6-8ac5-4c20-9603-3d10e8ba7e0d
DTSTAMP:20260422T054236Z
DESCRIPTION:
DTSTART;TZID=America/New_York:20280221T000000
DTEND;TZID=America/New_York:20280221T235900
LOCATION:
SUMMARY:Shelter Closed
END:VEVENT
END:VCALENDAR
