BEGIN:VCALENDAR
VERSION:2.0
PRODID:-//humanesocietycc.org//NONSGML kigkonsult.se iCalcreator 2.30.10//
CALSCALE:GREGORIAN
METHOD:PUBLISH
UID:6c45aa0b-8545-457e-847c-715a65b90199
X-WR-CALDESC:
X-WR-RELCALID:1bdfbe3518b041ca81f81a73ca88768b
X-WR-TIMEZONE:America/New_York
BEGIN:VTIMEZONE
TZID:America/New_York
BEGIN:STANDARD
TZNAME:EST
DTSTART:20271107T020000
TZOFFSETFROM:-0400
TZOFFSETTO:-0500
RDATE:20281105T020000
END:STANDARD
BEGIN:DAYLIGHT
TZNAME:EDT
DTSTART:20270314T020000
TZOFFSETFROM:-0500
TZOFFSETTO:-0400
RDATE:20280312T020000
RDATE:20290311T020000
END:DAYLIGHT
END:VTIMEZONE
BEGIN:VEVENT
UID:d9c0900a-1b05-4f9a-9e52-1df0f97797f1
DTSTAMP:20260422T054529Z
DESCRIPTION:
DTSTART;TZID=America/New_York:20280228T000000
DTEND;TZID=America/New_York:20280228T235900
LOCATION:
SUMMARY:Shelter Closed
END:VEVENT
END:VCALENDAR
