BEGIN:VCALENDAR
VERSION:2.0
PRODID:-//humanesocietycc.org//NONSGML kigkonsult.se iCalcreator 2.30.10//
CALSCALE:GREGORIAN
METHOD:PUBLISH
UID:453ce6c1-5dd0-412b-872a-9b9ea11e456a
X-WR-CALDESC:
X-WR-RELCALID:fb9a8e4620bce82dd5261b3b705ec187
X-WR-TIMEZONE:America/New_York
BEGIN:VTIMEZONE
TZID:America/New_York
BEGIN:STANDARD
TZNAME:EST
DTSTART:20271107T020000
TZOFFSETFROM:-0400
TZOFFSETTO:-0500
RDATE:20281105T020000
END:STANDARD
BEGIN:DAYLIGHT
TZNAME:EDT
DTSTART:20270314T020000
TZOFFSETFROM:-0500
TZOFFSETTO:-0400
RDATE:20280312T020000
RDATE:20290311T020000
END:DAYLIGHT
END:VTIMEZONE
BEGIN:VEVENT
UID:654253f3-5d06-4f17-8a1e-e1cc3de41403
DTSTAMP:20260422T071818Z
DESCRIPTION:
DTSTART;TZID=America/New_York:20280306T000000
DTEND;TZID=America/New_York:20280306T235900
LOCATION:
SUMMARY:Shelter Closed
END:VEVENT
END:VCALENDAR
