BEGIN:VCALENDAR
VERSION:2.0
PRODID:-//humanesocietycc.org//NONSGML kigkonsult.se iCalcreator 2.30.10//
CALSCALE:GREGORIAN
METHOD:PUBLISH
UID:3e364c1d-7497-457f-98b5-42bb661bb436
X-WR-CALDESC:
X-WR-RELCALID:5f6848ea00ce3dab1bd714b4bedd6df4
X-WR-TIMEZONE:America/New_York
BEGIN:VTIMEZONE
TZID:America/New_York
BEGIN:STANDARD
TZNAME:EST
DTSTART:20271107T020000
TZOFFSETFROM:-0400
TZOFFSETTO:-0500
RDATE:20281105T020000
END:STANDARD
BEGIN:DAYLIGHT
TZNAME:EDT
DTSTART:20270314T020000
TZOFFSETFROM:-0500
TZOFFSETTO:-0400
RDATE:20280312T020000
RDATE:20290311T020000
END:DAYLIGHT
END:VTIMEZONE
BEGIN:VEVENT
UID:142ad08c-aedb-49a4-b76b-eaace8c4ab2b
DTSTAMP:20260422T073447Z
DESCRIPTION:
DTSTART;TZID=America/New_York:20280313T000000
DTEND;TZID=America/New_York:20280313T235900
LOCATION:
SUMMARY:Shelter Closed
END:VEVENT
END:VCALENDAR
