BEGIN:VCALENDAR
VERSION:2.0
PRODID:-//humanesocietycc.org//NONSGML kigkonsult.se iCalcreator 2.30.10//
CALSCALE:GREGORIAN
METHOD:PUBLISH
UID:2da738f2-7a14-4c29-9d73-aba8c22d0aa4
X-WR-CALDESC:
X-WR-RELCALID:2736b70f7352e75638a7faab4a43e369
X-WR-TIMEZONE:America/New_York
BEGIN:VTIMEZONE
TZID:America/New_York
BEGIN:STANDARD
TZNAME:EST
DTSTART:20271107T020000
TZOFFSETFROM:-0400
TZOFFSETTO:-0500
RDATE:20281105T020000
END:STANDARD
BEGIN:DAYLIGHT
TZNAME:EDT
DTSTART:20280312T020000
TZOFFSETFROM:-0500
TZOFFSETTO:-0400
RDATE:20290311T020000
END:DAYLIGHT
END:VTIMEZONE
BEGIN:VEVENT
UID:4b4483c1-f9d7-40d2-9ace-65b3d8cb8975
DTSTAMP:20260422T072807Z
DESCRIPTION:
DTSTART;TZID=America/New_York:20280320T000000
DTEND;TZID=America/New_York:20280320T235900
LOCATION:
SUMMARY:Shelter Closed
END:VEVENT
END:VCALENDAR
