BEGIN:VCALENDAR
VERSION:2.0
PRODID:-//humanesocietycc.org//NONSGML kigkonsult.se iCalcreator 2.30.10//
CALSCALE:GREGORIAN
METHOD:PUBLISH
UID:388b430e-482b-4e99-bdae-a05993a24191
X-WR-CALDESC:
X-WR-RELCALID:1acf5da8cdadeda58b6be26309671d32
X-WR-TIMEZONE:America/New_York
BEGIN:VTIMEZONE
TZID:America/New_York
BEGIN:STANDARD
TZNAME:EST
DTSTART:20271107T020000
TZOFFSETFROM:-0400
TZOFFSETTO:-0500
RDATE:20281105T020000
END:STANDARD
BEGIN:DAYLIGHT
TZNAME:EDT
DTSTART:20280312T020000
TZOFFSETFROM:-0500
TZOFFSETTO:-0400
RDATE:20290311T020000
END:DAYLIGHT
END:VTIMEZONE
BEGIN:VEVENT
UID:7ef9aa93-df9f-40f4-a8ee-064240e605f7
DTSTAMP:20260422T090357Z
DESCRIPTION:
DTSTART;TZID=America/New_York:20280417T000000
DTEND;TZID=America/New_York:20280417T235900
LOCATION:
SUMMARY:Shelter Closed
END:VEVENT
END:VCALENDAR
