BEGIN:VCALENDAR
VERSION:2.0
PRODID:-//humanesocietycc.org//NONSGML kigkonsult.se iCalcreator 2.30.10//
CALSCALE:GREGORIAN
METHOD:PUBLISH
UID:f17106bb-4150-4d23-bbcc-4f473c8f14d1
X-WR-CALDESC:
X-WR-RELCALID:d932506422daf67791f5d8b9b653f0ca
X-WR-TIMEZONE:America/New_York
BEGIN:VTIMEZONE
TZID:America/New_York
BEGIN:STANDARD
TZNAME:EST
DTSTART:20271107T020000
TZOFFSETFROM:-0400
TZOFFSETTO:-0500
RDATE:20281105T020000
RDATE:20291104T020000
END:STANDARD
BEGIN:DAYLIGHT
TZNAME:EDT
DTSTART:20280312T020000
TZOFFSETFROM:-0500
TZOFFSETTO:-0400
RDATE:20290311T020000
END:DAYLIGHT
END:VTIMEZONE
BEGIN:VEVENT
UID:caa9b9ae-99c4-4db0-abe0-9ff8f2681e2a
DTSTAMP:20260422T111419Z
DESCRIPTION:
DTSTART;TZID=America/New_York:20280508T000000
DTEND;TZID=America/New_York:20280508T235900
LOCATION:
SUMMARY:Shelter Closed
END:VEVENT
END:VCALENDAR
