BEGIN:VCALENDAR
VERSION:2.0
PRODID:-//humanesocietycc.org//NONSGML kigkonsult.se iCalcreator 2.30.10//
CALSCALE:GREGORIAN
METHOD:PUBLISH
UID:538909e3-bd77-4590-9ceb-a495cf713523
X-WR-CALDESC:
X-WR-RELCALID:a5b5b05a603b7cb0a94c6cd7d3405a7b
X-WR-TIMEZONE:America/New_York
BEGIN:VTIMEZONE
TZID:America/New_York
BEGIN:STANDARD
TZNAME:EST
DTSTART:20271107T020000
TZOFFSETFROM:-0400
TZOFFSETTO:-0500
RDATE:20281105T020000
RDATE:20291104T020000
END:STANDARD
BEGIN:DAYLIGHT
TZNAME:EDT
DTSTART:20280312T020000
TZOFFSETFROM:-0500
TZOFFSETTO:-0400
RDATE:20290311T020000
END:DAYLIGHT
END:VTIMEZONE
BEGIN:VEVENT
UID:e233b61b-72c6-4e69-8243-97f433814424
DTSTAMP:20260422T110112Z
DESCRIPTION:
DTSTART;TZID=America/New_York:20280515T000000
DTEND;TZID=America/New_York:20280515T235900
LOCATION:
SUMMARY:Shelter Closed
END:VEVENT
END:VCALENDAR
