BEGIN:VCALENDAR
VERSION:2.0
PRODID:-//humanesocietycc.org//NONSGML kigkonsult.se iCalcreator 2.30.10//
CALSCALE:GREGORIAN
METHOD:PUBLISH
UID:9436bfa9-46f3-453d-8f1d-c7ba60fb7495
X-WR-CALDESC:
X-WR-RELCALID:10b13e6cf8f7986d53d3c2b93840fb12
X-WR-TIMEZONE:America/New_York
BEGIN:VTIMEZONE
TZID:America/New_York
BEGIN:STANDARD
TZNAME:EST
DTSTART:20271107T020000
TZOFFSETFROM:-0400
TZOFFSETTO:-0500
RDATE:20281105T020000
RDATE:20291104T020000
END:STANDARD
BEGIN:DAYLIGHT
TZNAME:EDT
DTSTART:20280312T020000
TZOFFSETFROM:-0500
TZOFFSETTO:-0400
RDATE:20290311T020000
END:DAYLIGHT
END:VTIMEZONE
BEGIN:VEVENT
UID:445b12d9-c3e3-494e-845f-981bec99a9cd
DTSTAMP:20260422T110727Z
DESCRIPTION:
DTSTART;TZID=America/New_York:20280522T000000
DTEND;TZID=America/New_York:20280522T235900
LOCATION:
SUMMARY:Shelter Closed
END:VEVENT
END:VCALENDAR
