BEGIN:VCALENDAR
VERSION:2.0
PRODID:-//humanesocietycc.org//NONSGML kigkonsult.se iCalcreator 2.30.10//
CALSCALE:GREGORIAN
METHOD:PUBLISH
UID:47fa905a-a768-42db-a8f7-6d5e41974390
X-WR-CALDESC:
X-WR-RELCALID:268186b0b54b3d5fc70a58f0bdb58a89
X-WR-TIMEZONE:America/New_York
BEGIN:VTIMEZONE
TZID:America/New_York
BEGIN:STANDARD
TZNAME:EST
DTSTART:20271107T020000
TZOFFSETFROM:-0400
TZOFFSETTO:-0500
RDATE:20281105T020000
RDATE:20291104T020000
END:STANDARD
BEGIN:DAYLIGHT
TZNAME:EDT
DTSTART:20280312T020000
TZOFFSETFROM:-0500
TZOFFSETTO:-0400
RDATE:20290311T020000
END:DAYLIGHT
END:VTIMEZONE
BEGIN:VEVENT
UID:2b8cce62-4559-4390-816c-8aaa7d0af4f3
DTSTAMP:20260422T110259Z
DESCRIPTION:
DTSTART;TZID=America/New_York:20280529T000000
DTEND;TZID=America/New_York:20280529T235900
LOCATION:
SUMMARY:Shelter Closed
END:VEVENT
END:VCALENDAR
