BEGIN:VCALENDAR
VERSION:2.0
PRODID:-//humanesocietycc.org//NONSGML kigkonsult.se iCalcreator 2.30.10//
CALSCALE:GREGORIAN
METHOD:PUBLISH
UID:c6e23bef-beef-4966-b1eb-5ea1a189472e
X-WR-CALDESC:
X-WR-RELCALID:873f0906d19396b42734f91d46d6b4ce
X-WR-TIMEZONE:America/New_York
BEGIN:VTIMEZONE
TZID:America/New_York
BEGIN:STANDARD
TZNAME:EST
DTSTART:20271107T020000
TZOFFSETFROM:-0400
TZOFFSETTO:-0500
RDATE:20281105T020000
RDATE:20291104T020000
END:STANDARD
BEGIN:DAYLIGHT
TZNAME:EDT
DTSTART:20280312T020000
TZOFFSETFROM:-0500
TZOFFSETTO:-0400
RDATE:20290311T020000
END:DAYLIGHT
END:VTIMEZONE
BEGIN:VEVENT
UID:c80126f7-6935-4b67-8643-06553246d586
DTSTAMP:20260422T125232Z
DESCRIPTION:
DTSTART;TZID=America/New_York:20280619T000000
DTEND;TZID=America/New_York:20280619T235900
LOCATION:
SUMMARY:Shelter Closed
END:VEVENT
END:VCALENDAR
