BEGIN:VCALENDAR
VERSION:2.0
PRODID:-//humanesocietycc.org//NONSGML kigkonsult.se iCalcreator 2.30.10//
CALSCALE:GREGORIAN
METHOD:PUBLISH
UID:c3dc8fd3-84e0-4709-804b-7430d9ca8909
X-WR-CALDESC:
X-WR-RELCALID:65ffea81e56ce38a2a5c15a7184f1b0a
X-WR-TIMEZONE:America/New_York
BEGIN:VTIMEZONE
TZID:America/New_York
BEGIN:STANDARD
TZNAME:EST
DTSTART:20271107T020000
TZOFFSETFROM:-0400
TZOFFSETTO:-0500
RDATE:20281105T020000
RDATE:20291104T020000
END:STANDARD
BEGIN:DAYLIGHT
TZNAME:EDT
DTSTART:20280312T020000
TZOFFSETFROM:-0500
TZOFFSETTO:-0400
RDATE:20290311T020000
END:DAYLIGHT
END:VTIMEZONE
BEGIN:VEVENT
UID:0da23328-b99f-4c75-8bb4-a7b9544814eb
DTSTAMP:20260422T125108Z
DESCRIPTION:
DTSTART;TZID=America/New_York:20280626T000000
DTEND;TZID=America/New_York:20280626T235900
LOCATION:
SUMMARY:Shelter Closed
END:VEVENT
END:VCALENDAR
