BEGIN:VCALENDAR
VERSION:2.0
PRODID:-//humanesocietycc.org//NONSGML kigkonsult.se iCalcreator 2.30.10//
CALSCALE:GREGORIAN
METHOD:PUBLISH
UID:3c124613-3c5e-48b6-90ec-f54dc6e8cfd9
X-WR-CALDESC:
X-WR-RELCALID:695e91b5e259f943585715e42c50d432
X-WR-TIMEZONE:America/New_York
BEGIN:VTIMEZONE
TZID:America/New_York
BEGIN:STANDARD
TZNAME:EST
DTSTART:20271107T020000
TZOFFSETFROM:-0400
TZOFFSETTO:-0500
RDATE:20281105T020000
RDATE:20291104T020000
END:STANDARD
BEGIN:DAYLIGHT
TZNAME:EDT
DTSTART:20280312T020000
TZOFFSETFROM:-0500
TZOFFSETTO:-0400
RDATE:20290311T020000
END:DAYLIGHT
END:VTIMEZONE
BEGIN:VEVENT
UID:b7454ab5-71e0-454a-a91c-84b5473a33a3
DTSTAMP:20260422T143623Z
DESCRIPTION:
DTSTART;TZID=America/New_York:20280703T000000
DTEND;TZID=America/New_York:20280703T235900
LOCATION:
SUMMARY:Shelter Closed
END:VEVENT
END:VCALENDAR
