BEGIN:VCALENDAR
VERSION:2.0
PRODID:-//humanesocietycc.org//NONSGML kigkonsult.se iCalcreator 2.30.10//
CALSCALE:GREGORIAN
METHOD:PUBLISH
UID:6de68ed9-a0ec-487a-8c73-3f0662d6cee6
X-WR-CALDESC:
X-WR-RELCALID:46e6ac6f44ed64f506eb796c7ef27ea9
X-WR-TIMEZONE:America/New_York
BEGIN:VTIMEZONE
TZID:America/New_York
BEGIN:STANDARD
TZNAME:EST
DTSTART:20271107T020000
TZOFFSETFROM:-0400
TZOFFSETTO:-0500
RDATE:20281105T020000
RDATE:20291104T020000
END:STANDARD
BEGIN:DAYLIGHT
TZNAME:EDT
DTSTART:20280312T020000
TZOFFSETFROM:-0500
TZOFFSETTO:-0400
RDATE:20290311T020000
END:DAYLIGHT
END:VTIMEZONE
BEGIN:VEVENT
UID:e7e8d6e3-c46a-48b5-80e4-ff2645b82eb4
DTSTAMP:20260422T144051Z
DESCRIPTION:
DTSTART;TZID=America/New_York:20280717T000000
DTEND;TZID=America/New_York:20280717T235900
LOCATION:
SUMMARY:Shelter Closed
END:VEVENT
END:VCALENDAR
