BEGIN:VCALENDAR
VERSION:2.0
PRODID:-//humanesocietycc.org//NONSGML kigkonsult.se iCalcreator 2.30.10//
CALSCALE:GREGORIAN
METHOD:PUBLISH
UID:f0511e4b-1340-477d-bcdb-02de7046c2e0
X-WR-CALDESC:
X-WR-RELCALID:9644f1ee5f6d63107e5f6685411024c8
X-WR-TIMEZONE:America/New_York
BEGIN:VTIMEZONE
TZID:America/New_York
BEGIN:STANDARD
TZNAME:EST
DTSTART:20271107T020000
TZOFFSETFROM:-0400
TZOFFSETTO:-0500
RDATE:20281105T020000
RDATE:20291104T020000
END:STANDARD
BEGIN:DAYLIGHT
TZNAME:EDT
DTSTART:20280312T020000
TZOFFSETFROM:-0500
TZOFFSETTO:-0400
RDATE:20290311T020000
END:DAYLIGHT
END:VTIMEZONE
BEGIN:VEVENT
UID:69ac9e8e-dd4d-4527-b429-0581be2614a5
DTSTAMP:20260422T143843Z
DESCRIPTION:
DTSTART;TZID=America/New_York:20280731T000000
DTEND;TZID=America/New_York:20280731T235900
LOCATION:
SUMMARY:Shelter Closed
END:VEVENT
END:VCALENDAR
