BEGIN:VCALENDAR
VERSION:2.0
PRODID:-//humanesocietycc.org//NONSGML kigkonsult.se iCalcreator 2.30.10//
CALSCALE:GREGORIAN
METHOD:PUBLISH
UID:cfcf7711-8f3d-4974-9ea7-a34df8f92027
X-WR-CALDESC:
X-WR-RELCALID:6ea1963a1a62953d9a7e2041375dda97
X-WR-TIMEZONE:America/New_York
BEGIN:VTIMEZONE
TZID:America/New_York
BEGIN:STANDARD
TZNAME:EST
DTSTART:20271107T020000
TZOFFSETFROM:-0400
TZOFFSETTO:-0500
RDATE:20281105T020000
RDATE:20291104T020000
END:STANDARD
BEGIN:DAYLIGHT
TZNAME:EDT
DTSTART:20280312T020000
TZOFFSETFROM:-0500
TZOFFSETTO:-0400
RDATE:20290311T020000
END:DAYLIGHT
END:VTIMEZONE
BEGIN:VEVENT
UID:c1648e61-5faf-48ae-a6b9-a6b30ad53f5c
DTSTAMP:20260422T164224Z
DESCRIPTION:
DTSTART;TZID=America/New_York:20280821T000000
DTEND;TZID=America/New_York:20280821T235900
LOCATION:
SUMMARY:Shelter Closed
END:VEVENT
END:VCALENDAR
