BEGIN:VCALENDAR
VERSION:2.0
PRODID:-//humanesocietycc.org//NONSGML kigkonsult.se iCalcreator 2.30.10//
CALSCALE:GREGORIAN
METHOD:PUBLISH
UID:07d2b36c-64b8-436c-b1c3-d5c312b6d452
X-WR-CALDESC:
X-WR-RELCALID:c8e206297dd0f9619b89e777681c30d5
X-WR-TIMEZONE:America/New_York
BEGIN:VTIMEZONE
TZID:America/New_York
BEGIN:STANDARD
TZNAME:EST
DTSTART:20271107T020000
TZOFFSETFROM:-0400
TZOFFSETTO:-0500
RDATE:20281105T020000
RDATE:20291104T020000
END:STANDARD
BEGIN:DAYLIGHT
TZNAME:EDT
DTSTART:20280312T020000
TZOFFSETFROM:-0500
TZOFFSETTO:-0400
RDATE:20290311T020000
END:DAYLIGHT
END:VTIMEZONE
BEGIN:VEVENT
UID:ef76c778-e519-4219-9f24-2b861e686474
DTSTAMP:20260422T163341Z
DESCRIPTION:
DTSTART;TZID=America/New_York:20280828T000000
DTEND;TZID=America/New_York:20280828T235900
LOCATION:
SUMMARY:Shelter Closed
END:VEVENT
END:VCALENDAR
