BEGIN:VCALENDAR
VERSION:2.0
PRODID:-//humanesocietycc.org//NONSGML kigkonsult.se iCalcreator 2.30.10//
CALSCALE:GREGORIAN
METHOD:PUBLISH
UID:fe00d64a-2414-4237-a191-642125cad36a
X-WR-CALDESC:
X-WR-RELCALID:11644bb6655617dc4521b0f938c96700
X-WR-TIMEZONE:America/New_York
BEGIN:VTIMEZONE
TZID:America/New_York
BEGIN:STANDARD
TZNAME:EST
DTSTART:20271107T020000
TZOFFSETFROM:-0400
TZOFFSETTO:-0500
RDATE:20281105T020000
RDATE:20291104T020000
END:STANDARD
BEGIN:DAYLIGHT
TZNAME:EDT
DTSTART:20280312T020000
TZOFFSETFROM:-0500
TZOFFSETTO:-0400
RDATE:20290311T020000
RDATE:20300310T020000
END:DAYLIGHT
END:VTIMEZONE
BEGIN:VEVENT
UID:ef86ca7e-f1b1-4a5b-aac0-6ae8e3ff5ecd
DTSTAMP:20260422T181437Z
DESCRIPTION:
DTSTART;TZID=America/New_York:20280911T000000
DTEND;TZID=America/New_York:20280911T235900
LOCATION:
SUMMARY:Shelter Closed
END:VEVENT
END:VCALENDAR
