BEGIN:VCALENDAR
VERSION:2.0
PRODID:-//humanesocietycc.org//NONSGML kigkonsult.se iCalcreator 2.30.10//
CALSCALE:GREGORIAN
METHOD:PUBLISH
UID:977e1ce2-f045-48eb-946e-d4f91da2c75c
X-WR-CALDESC:
X-WR-RELCALID:630430d7cc3a1be64c5ea09ee3beecaf
X-WR-TIMEZONE:America/New_York
BEGIN:VTIMEZONE
TZID:America/New_York
BEGIN:STANDARD
TZNAME:EST
DTSTART:20271107T020000
TZOFFSETFROM:-0400
TZOFFSETTO:-0500
RDATE:20281105T020000
RDATE:20291104T020000
END:STANDARD
BEGIN:DAYLIGHT
TZNAME:EDT
DTSTART:20280312T020000
TZOFFSETFROM:-0500
TZOFFSETTO:-0400
RDATE:20290311T020000
RDATE:20300310T020000
END:DAYLIGHT
END:VTIMEZONE
BEGIN:VEVENT
UID:a1a21b7c-b4b8-439d-857a-ab142e6b6116
DTSTAMP:20260422T182940Z
DESCRIPTION:
DTSTART;TZID=America/New_York:20280925T000000
DTEND;TZID=America/New_York:20280925T235900
LOCATION:
SUMMARY:Shelter Closed
END:VEVENT
END:VCALENDAR
