BEGIN:VCALENDAR
VERSION:2.0
PRODID:-//humanesocietycc.org//NONSGML kigkonsult.se iCalcreator 2.30.10//
CALSCALE:GREGORIAN
METHOD:PUBLISH
UID:94fb9d8d-c5bd-4ab3-97e0-75fb133cac3d
X-WR-CALDESC:
X-WR-RELCALID:31ac3296d4f05eff58664d593f1c3920
X-WR-TIMEZONE:America/New_York
BEGIN:VTIMEZONE
TZID:America/New_York
BEGIN:STANDARD
TZNAME:EST
DTSTART:20271107T020000
TZOFFSETFROM:-0400
TZOFFSETTO:-0500
RDATE:20281105T020000
RDATE:20291104T020000
END:STANDARD
BEGIN:DAYLIGHT
TZNAME:EDT
DTSTART:20280312T020000
TZOFFSETFROM:-0500
TZOFFSETTO:-0400
RDATE:20290311T020000
RDATE:20300310T020000
END:DAYLIGHT
END:VTIMEZONE
BEGIN:VEVENT
UID:b0548988-c8bd-41d0-a9a8-c75fdcbd76fc
DTSTAMP:20260422T202642Z
DESCRIPTION:
DTSTART;TZID=America/New_York:20281002T000000
DTEND;TZID=America/New_York:20281002T235900
LOCATION:
SUMMARY:Shelter Closed
END:VEVENT
END:VCALENDAR
