BEGIN:VCALENDAR
VERSION:2.0
PRODID:-//humanesocietycc.org//NONSGML kigkonsult.se iCalcreator 2.30.10//
CALSCALE:GREGORIAN
METHOD:PUBLISH
UID:6f52fa1b-6f95-4d79-8478-bd1179077f39
X-WR-CALDESC:
X-WR-RELCALID:ed2e8f8ba456dd20db7bd48bb281ee8b
X-WR-TIMEZONE:America/New_York
BEGIN:VTIMEZONE
TZID:America/New_York
BEGIN:STANDARD
TZNAME:EST
DTSTART:20271107T020000
TZOFFSETFROM:-0400
TZOFFSETTO:-0500
RDATE:20281105T020000
RDATE:20291104T020000
END:STANDARD
BEGIN:DAYLIGHT
TZNAME:EDT
DTSTART:20280312T020000
TZOFFSETFROM:-0500
TZOFFSETTO:-0400
RDATE:20290311T020000
RDATE:20300310T020000
END:DAYLIGHT
END:VTIMEZONE
BEGIN:VEVENT
UID:554badf3-d10e-4e46-870b-f83373333409
DTSTAMP:20260422T203041Z
DESCRIPTION:
DTSTART;TZID=America/New_York:20281030T000000
DTEND;TZID=America/New_York:20281030T235900
LOCATION:
SUMMARY:Shelter Closed
END:VEVENT
END:VCALENDAR
