BEGIN:VCALENDAR
VERSION:2.0
PRODID:-//humanesocietycc.org//NONSGML kigkonsult.se iCalcreator 2.30.10//
CALSCALE:GREGORIAN
METHOD:PUBLISH
UID:0911f84c-c12e-4025-be80-fb774f9b2a35
X-WR-CALDESC:
X-WR-RELCALID:24af9a6406f869c10ec492aa61d14f9b
X-WR-TIMEZONE:America/New_York
BEGIN:VTIMEZONE
TZID:America/New_York
BEGIN:STANDARD
TZNAME:EST
DTSTART:20281105T020000
TZOFFSETFROM:-0400
TZOFFSETTO:-0500
RDATE:20291104T020000
END:STANDARD
BEGIN:DAYLIGHT
TZNAME:EDT
DTSTART:20280312T020000
TZOFFSETFROM:-0500
TZOFFSETTO:-0400
RDATE:20290311T020000
RDATE:20300310T020000
END:DAYLIGHT
END:VTIMEZONE
BEGIN:VEVENT
UID:4c6d801b-1f97-4aee-a2d4-a8009e7b519a
DTSTAMP:20260422T220620Z
DESCRIPTION:
DTSTART;TZID=America/New_York:20281113T000000
DTEND;TZID=America/New_York:20281113T235900
LOCATION:
SUMMARY:Shelter Closed
END:VEVENT
END:VCALENDAR
