BEGIN:VCALENDAR
VERSION:2.0
PRODID:-//humanesocietycc.org//NONSGML kigkonsult.se iCalcreator 2.30.10//
CALSCALE:GREGORIAN
METHOD:PUBLISH
UID:ab513233-4b66-4ec5-9c5d-eb5225ef43dd
X-WR-CALDESC:
X-WR-RELCALID:0ea2a88a1814ff6e2efa4c9c5636168b
X-WR-TIMEZONE:America/New_York
BEGIN:VTIMEZONE
TZID:America/New_York
BEGIN:STANDARD
TZNAME:EST
DTSTART:20281105T020000
TZOFFSETFROM:-0400
TZOFFSETTO:-0500
RDATE:20291104T020000
END:STANDARD
BEGIN:DAYLIGHT
TZNAME:EDT
DTSTART:20280312T020000
TZOFFSETFROM:-0500
TZOFFSETTO:-0400
RDATE:20290311T020000
RDATE:20300310T020000
END:DAYLIGHT
END:VTIMEZONE
BEGIN:VEVENT
UID:d2372884-52bb-49a9-a8c8-7b0fb51ebebe
DTSTAMP:20260422T234729Z
DESCRIPTION:
DTSTART;TZID=America/New_York:20281204T000000
DTEND;TZID=America/New_York:20281204T235900
LOCATION:
SUMMARY:Shelter Closed
END:VEVENT
END:VCALENDAR
