BEGIN:VCALENDAR
VERSION:2.0
PRODID:-//humanesocietycc.org//NONSGML kigkonsult.se iCalcreator 2.30.10//
CALSCALE:GREGORIAN
METHOD:PUBLISH
UID:0f837615-a69f-47ad-b192-24106af4f601
X-WR-CALDESC:
X-WR-RELCALID:e53c0c1adba8b11c85ce64fe5bd00e95
X-WR-TIMEZONE:America/New_York
BEGIN:VTIMEZONE
TZID:America/New_York
BEGIN:STANDARD
TZNAME:EST
DTSTART:20281105T020000
TZOFFSETFROM:-0400
TZOFFSETTO:-0500
RDATE:20291104T020000
END:STANDARD
BEGIN:DAYLIGHT
TZNAME:EDT
DTSTART:20280312T020000
TZOFFSETFROM:-0500
TZOFFSETTO:-0400
RDATE:20290311T020000
RDATE:20300310T020000
END:DAYLIGHT
END:VTIMEZONE
BEGIN:VEVENT
UID:74903ba4-53f1-4a47-a4c9-e767969e8fb1
DTSTAMP:20260422T233612Z
DESCRIPTION:
DTSTART;TZID=America/New_York:20281211T000000
DTEND;TZID=America/New_York:20281211T235900
LOCATION:
SUMMARY:Shelter Closed
END:VEVENT
END:VCALENDAR
