BEGIN:VCALENDAR
VERSION:2.0
PRODID:-//humanesocietycc.org//NONSGML kigkonsult.se iCalcreator 2.30.10//
CALSCALE:GREGORIAN
METHOD:PUBLISH
UID:6a9e11df-48b2-4d1a-bdd9-4275499bb605
X-WR-CALDESC:
X-WR-RELCALID:c1426af21cfe2a8206b3e63745a823de
X-WR-TIMEZONE:America/New_York
BEGIN:VTIMEZONE
TZID:America/New_York
BEGIN:STANDARD
TZNAME:EST
DTSTART:20281105T020000
TZOFFSETFROM:-0400
TZOFFSETTO:-0500
RDATE:20291104T020000
END:STANDARD
BEGIN:DAYLIGHT
TZNAME:EDT
DTSTART:20280312T020000
TZOFFSETFROM:-0500
TZOFFSETTO:-0400
RDATE:20290311T020000
RDATE:20300310T020000
END:DAYLIGHT
END:VTIMEZONE
BEGIN:VEVENT
UID:ad812f10-f210-43be-80d2-dc840276f3d7
DTSTAMP:20260422T233936Z
DESCRIPTION:
DTSTART;TZID=America/New_York:20281218T000000
DTEND;TZID=America/New_York:20281218T235900
LOCATION:
SUMMARY:Shelter Closed
END:VEVENT
END:VCALENDAR
