BEGIN:VCALENDAR
VERSION:2.0
PRODID:-//humanesocietycc.org//NONSGML kigkonsult.se iCalcreator 2.30.10//
CALSCALE:GREGORIAN
METHOD:PUBLISH
UID:dd65d4a3-4126-4b0b-b2e4-777bbe887880
X-WR-CALDESC:
X-WR-RELCALID:15eea4d5b5015610e4cc9f7656de3841
X-WR-TIMEZONE:America/New_York
BEGIN:VTIMEZONE
TZID:America/New_York
BEGIN:STANDARD
TZNAME:EST
DTSTART:20281105T020000
TZOFFSETFROM:-0400
TZOFFSETTO:-0500
RDATE:20291104T020000
END:STANDARD
BEGIN:DAYLIGHT
TZNAME:EDT
DTSTART:20280312T020000
TZOFFSETFROM:-0500
TZOFFSETTO:-0400
RDATE:20290311T020000
RDATE:20300310T020000
END:DAYLIGHT
END:VTIMEZONE
BEGIN:VEVENT
UID:6a11ebda-1420-4158-b693-105f9a3c3141
DTSTAMP:20260423T012747Z
DESCRIPTION:
DTSTART;TZID=America/New_York:20290108T000000
DTEND;TZID=America/New_York:20290108T235900
LOCATION:
SUMMARY:Shelter Closed
END:VEVENT
END:VCALENDAR
